BEGIN:VCALENDAR
VERSION:2.0
PRODID:-//Sioux County - ECPv6.15.20//NONSGML v1.0//EN
CALSCALE:GREGORIAN
METHOD:PUBLISH
X-ORIGINAL-URL:https://siouxcountyne.gov
X-WR-CALDESC:Events for Sioux County
REFRESH-INTERVAL;VALUE=DURATION:PT1H
X-Robots-Tag:noindex
X-PUBLISHED-TTL:PT1H
BEGIN:VTIMEZONE
TZID:America/Chicago
BEGIN:DAYLIGHT
TZOFFSETFROM:-0600
TZOFFSETTO:-0500
TZNAME:CDT
DTSTART:20250309T080000
END:DAYLIGHT
BEGIN:STANDARD
TZOFFSETFROM:-0500
TZOFFSETTO:-0600
TZNAME:CST
DTSTART:20251102T070000
END:STANDARD
BEGIN:DAYLIGHT
TZOFFSETFROM:-0600
TZOFFSETTO:-0500
TZNAME:CDT
DTSTART:20260308T080000
END:DAYLIGHT
BEGIN:STANDARD
TZOFFSETFROM:-0500
TZOFFSETTO:-0600
TZNAME:CST
DTSTART:20261101T070000
END:STANDARD
BEGIN:DAYLIGHT
TZOFFSETFROM:-0600
TZOFFSETTO:-0500
TZNAME:CDT
DTSTART:20270314T080000
END:DAYLIGHT
BEGIN:STANDARD
TZOFFSETFROM:-0500
TZOFFSETTO:-0600
TZNAME:CST
DTSTART:20271107T070000
END:STANDARD
END:VTIMEZONE
BEGIN:VEVENT
DTSTART;VALUE=DATE:20261102
DTEND;VALUE=DATE:20261103
DTSTAMP:20260421T201348
CREATED:20250102T210943Z
LAST-MODIFIED:20260330T205318Z
UID:10000121-1793577600-1793663999@siouxcountyne.gov
SUMMARY:Veteran's Day - Closed
DESCRIPTION:All Offices Closed
URL:https://siouxcountyne.gov/event/veterans-day-closed/2026-11-02/
CATEGORIES:Holiday
END:VEVENT
BEGIN:VEVENT
DTSTART;VALUE=DATE:20261126
DTEND;VALUE=DATE:20261128
DTSTAMP:20260421T201348
CREATED:20250102T210756Z
LAST-MODIFIED:20260330T205142Z
UID:10000049-1795651200-1795823999@siouxcountyne.gov
SUMMARY:Thanksgiving - Closed
DESCRIPTION:All Offices Closed
URL:https://siouxcountyne.gov/event/thanksgiving-closed/2026-11-26/
CATEGORIES:Holiday
END:VEVENT
END:VCALENDAR